BEGIN:VCALENDAR
VERSION:2.0
PRODID:-//wp-events-plugin.com//5.99912//EN
TZID:America/New_York
X-WR-TIMEZONE:America/New_York
BEGIN:VEVENT
UID:1140@alumni.worldcampus.psu.edu
DTSTART;TZID=America/New_York:20260409T120000
DTEND;TZID=America/New_York:20260521T131500
DTSTAMP:20260326T151327Z
URL:https://alumni.worldcampus.psu.edu/events/build-your-bones-2/
SUMMARY:Build Your Bones
DESCRIPTION:Penn State Extension invites you to participate in a seven-week
  series on preventing osteoporosis and maintaining bone health through nut
 rition\, exercise\, and medications. During these classes\, you will also 
 learn strategies for strengthening your bones and explore medical interven
 tions available for those diagnosed with osteoporosis or osteopenia.\nRegi
 ster by April 8. The cost is $15 for the series.\nMore Info
ATTACH;FMTTYPE=image/jpeg:https://alumni.worldcampus.psu.edu/wp-content/up
 loads/Milk-in-a-glass-with-cheese-and-stethoscope-e1755031309442.jpeg
END:VEVENT
BEGIN:VTIMEZONE
TZID:America/New_York
X-LIC-LOCATION:America/New_York
BEGIN:DAYLIGHT
DTSTART:20260308T030000
TZOFFSETFROM:-0500
TZOFFSETTO:-0400
TZNAME:EDT
END:DAYLIGHT
END:VTIMEZONE
END:VCALENDAR